Workbook

Sheet Indice
A1: Indice
A3: =Roma!A1 -> Tab.14.25 - Suolo consumato e non, variazione, densità. Roma. Anni 2018-2024
A4: =Roma!A13 -> Graf.14.21 - Suolo consumato e non (%). Roma. Anno 2024
A5: =Roma!A34 -> Graf.14.22 - Suolo consumato (ha). Roma. Anni 2018-2024
A6: =Roma!A60 -> Graf.14.23 - Suolo consumato (variazione [ha], densità [m2/ha]). Roma. Anni 2018-2024
A7: =Roma_copertura!$A$1 -> Tab.14.26 - Suolo consumato per tipologia (ha, %). Roma. Anno 2021
A8: =Roma_copertura!$A$20 -> Graf.14.24 - Suolo consumato per tipologia (%). Roma. Anno 2021
A9: =Roma_copertura!$A$44 -> Graf.14.25 - Suolo non consumato per tipologia (%). Roma. Anno 2021
A10: =Roma_copertura!$A$66 -> Fig.14.2 - Copertura di suolo di Roma Capitale. Anno 2021
A11: =Roma_municipi!A1 -> Tab.14.27 - Suolo consumato e non per municipio di Roma (%). Anno 2021
A12: =Roma_municipi!A21 -> Graf.14.26 - Suolo consumato per municipio di Roma (%). Anno 2021
A13: =Roma_municipi!A41 -> Fig.14.3 - Suolo consumato per municipio di Roma (%). Anno 2021
A14: =Roma_municipi!A69 -> Tab.14.28 - Consumo di suolo pro-capite per municipio di Roma (m2/ab.). Anno 2021
A15: =Roma_municipi!A88 -> Tab.14.29 - Suolo consumato entro 150 m. dai corpi idrici permanenti per municipio di Roma (ha, %). Anno 2021
A16: =Roma_municipi!A109 -> Tab.14.30 - Suolo consumato all’interno di aree protette per municipio di Roma (ha, %). Anno 2021
A17: =Roma_municipi!A130 -> Tab.14.31 - Nuovo consumo di suolo per municipio di Roma (ha, %). Anno 2021 vs 2020
A18: =Grandi_comuni!A1 -> Tab.14.32 - Suolo consumato e non (ha, %). Grandi Comuni. Anno 2024
A19: =Grandi_comuni!A18 -> Graf.14.27 - Suolo consumato e non (%). Grandi Comuni. Anno 2024
A20: =Grandi_comuni!A45 -> Tab.14.33 - Indicatori di consumo di suolo. Grandi Comuni. Anno 2023 - 2024
A21: =Grandi_comuni!A61 -> Graf.14.28 - Nuovo consumo di suolo nei Grandi Comuni. Anno 2023 - 2024
A22: =Grandi_comuni!A84 -> Tab.14.34 - Suolo consumato secondo il livello di pericolosità idraulica (%). Grandi Comuni. Anno 2024
A23: =Grandi_comuni!A102 -> Graf.14.29 - Suolo consumato in aree a pericolosità idraulica alta (P3 - alluvioni frequenti) (%). Grandi Comuni. Anno 2024
A24: =Grandi_comuni!A123 -> Tab.14.35 - Suolo consumato entro 300 metri (%) e tra 300 e 1000 metri dalla costa (%). Grandi Comuni. Anno 2024
A25: =Grandi_comuni!A135 -> Tab.14.36 - Suolo consumato per livello di pendenza (entro/oltre il 10%) (%). Grandi Comuni. Anno 2024
A26: =Grandi_comuni!A151 -> Graf.14.30 - Suolo consumato entro/oltre il 10% di pendenza (%). Grandi Comuni. Anno 2024
A27: =Grandi_comuni!#REF! -> #REF!

Sheet Roma
A1: Tab.14.25 - Suolo consumato e non, variazione, densità. Roma. Anni 2018-2024
A2: Anno | B2: Suolo consumato (ha) | C2: Suolo non consumato (ha) | D2: Suolo consumato (%) | E2: Suolo non consumato (%) | F2: Incremento [ha] rispetto all'anno precedente | G2: Densità di consumo di suolo [mq] rispetto all'area totale [ha]
A3: 2018 | B3: 29858.8 | C3: 98419.95 | D3: =B3/128278.75*100 -> 23.276497 | E3: =100-D3 -> 76.723503 | F3: 93.32 | G3: =F3*10000/128278.75 -> 7.2747825
A4: 2019 | B4: 29973.89 | C4: 98304.86 | D4: =B4/128278.75*100 -> 23.366216 | E4: =100-D4 -> 76.633784 | F4: =B4-B3 -> 115.09 | G4: =F4*10000/128278.75 -> 8.9718679
A5: 2020 | B5: 30092.68 | C5: 98186.07 | D5: =B5/128278.75*100 -> 23.458819 | E5: =100-D5 -> 76.541181 | F5: =B5-B4 -> 118.79 | G5: =F5*10000/128278.75 -> 9.2603023
A6: 2021 | B6: 30189.1 | C6: 98089.65 | D6: =B6/128278.75*100 -> 23.533984 | E6: =100-D6 -> 76.466016 | F6: =B6-B5 -> 96.42 | G6: =F6*10000/128278.75 -> 7.5164437
A7: 2022 | B7: 30295.84 | C7: 97982.91 | D7: =B7/128278.75*100 -> 23.617193 | E7: =100-D7 -> 76.382807 | F7: =B7-B6 -> 106.74 | G7: =F7*10000/128278.75 -> 8.3209417
A8: 2023 | B8: 30343.23 | C8: 97935.52 | D8: =B8/128278.75*100 -> 23.654136 | E8: =100-D8 -> 76.345864 | F8: =B8-B7 -> 47.39 | G8: =F8*10000/128278.75 -> 3.6942985
A9: 2024 | B9: 30396.82 | C9: 97881.93 | D9: =B9/128278.75*100 -> 23.695912 | E9: =100-D9 -> 76.304088 | F9: =B9-B8 -> 53.59 | G9: =F9*10000/128278.75 -> 4.177621
A10: Fonte: Elaborazioni Ufficio di Statistica di Roma Capitale su dati ISPRA
A11: (%) Percentuale di suolo sulla superficie amministrativa
A13: Graf.14.21 - Suolo consumato e non (%). Roma. Anno 2024
A31: Fonte: Elaborazioni Ufficio di Statistica di Roma Capitale su dati ISPRA
A32: (%) Percentuale di suolo sulla superficie amministrativa
A34: Graf.14.22 - Suolo consumato (ha). Roma. Anni 2018-2024
A58: Fonte: Elaborazioni Ufficio di Statistica di Roma Capitale su dati ISPRA
A60: Graf.14.23 - Suolo consumato (variazione [ha], densità [m2/ha]). Roma. Anni 2018-2024
A82: Fonte: Elaborazioni Ufficio di Statistica di Roma Capitale su dati ISPRA

Sheet Roma_copertura
A1: Tab.14.26 - Suolo consumato per tipologia (ha, %). Roma. Anno 2021
A2: Tipologia di copertura | B2: Suolo consumato (ha) | C2: Suolo consumato (%)
A3: Edifici, fabbricati | B3: 8717.18 | C3: 6.77
A4: Strade pavimentate | B4: 6480.48 | C4: 5.04
A5: Sede ferroviaria | B5: 507.52 | C5: 0.39
A6: Aeroporti | B6: 74.25 | C6: 0.06
A7: Porti | B7: 23.52 | C7: 0.02
A8: Altre aree impermeabili/ pavimentate non edificate | B8: 12337.61 | C8: 9.59
A9: Serre permanenti pavimentate | B9: 8.49 | C9: 0.01
A10: Discariche | B10: 190.21 | C10: 0.15
A11: Strade non pavimentate | B11: 616.06 | C11: 0.48
A12: Cantieri e altre aree in terra battuta | B12: 1820.65 | C12: 1.41
A13: Aree estrattive non rinaturalizzate | B13: 277.44 | C13: 0.22
A14: Cave in falda | B14: 16.06 | C14: 0.01
... A16: Altre coperture artificiali non connesse alle attività agricole | B16: 14.53 | C16: 0.01
A17: Fonte: Elaborazioni Ufficio di Statistica di Roma Capitale su dati "L'uso e il consumo di suolo di Roma Capitale - Rapporto 2021"
A18: (%) Percentuale di suolo consumato sulla superficie amministrativa
A20: Graf.14.24 - Suolo consumato per tipologia (%). Roma. Anno 2021
A41: Fonte: Elaborazioni Ufficio di Statistica di Roma Capitale su dati "L'uso e il consumo di suolo di Roma Capitale - Rapporto 2021"
A42: (%) Percentuale di suolo consumato sulla superficie amministrativa
A44: Graf.14.25 - Suolo non consumato per tipologia (%). Roma. Anno 2021
A63: Fonte: "L'uso e il consumo di suolo di Roma Capitale - Rapporto 2021"
A64: (%) Percentuale di suolo non consumato sulla superficie amministrativa
A66: Fig.14.2 - Copertura di suolo di Roma Capitale. Anno 2021
A98: Fonte: "L'uso e il consumo di suolo di Roma Capitale - Rapporto 2021"

Sheet Roma_municipi
A1: Tab.14.27 - Suolo consumato e non per municipio di Roma (%). Anno 2021
A2: Municipio | B2: Consumato permanente | C2: Consumato reversibile | D2: Non consumato | E2: Suolo consumato (%) | F2: Suolo non consumato (%) | BA2: Municipio | BB2: Suolo consumato (%)
A3: I | B3: 1465 | C3: 34 | D3: 510 | E3: =+($B3+$C3)/SUM($B3:$D3)*100 -> 74.614236 | F3: =$D3/SUM($B3:$D3)*100 -> 25.385764 | AZ3: =+_xlfn.RANK.EQ(BB3,$BB$3:$BB$17,) -> 1 | BA3: I | BB3: =E3 -> 74.614236 | BD3: 1 | BE3: =+VLOOKUP(BD3,$AZ$3:$BB$17,2,FALSE) -> I | BF3: =+VLOOKUP(BD3,$AZ$3:$BB$17,3,FALSE) -> 74.614236
A4: II | B4: 1337 | C4: 12 | D4: 618 | E4: =+($B4+$C4)/SUM($B4:$D4)*100 -> 68.581596 | F4: =$D4/SUM($B4:$D4)*100 -> 31.418404 | AZ4: =+_xlfn.RANK.EQ(BB4,$BB$3:$BB$17,) -> 2 | BA4: II | BB4: =E4 -> 68.581596 | BD4: 2 | BE4: =+VLOOKUP(BD4,$AZ$3:$BB$17,2,FALSE) -> II | BF4: =+VLOOKUP(BD4,$AZ$3:$BB$17,3,FALSE) -> 68.581596
A5: III | B5: 1771 | C5: 147 | D5: 7885 | E5: =+($B5+$C5)/SUM($B5:$D5)*100 -> 19.565439 | F5: =$D5/SUM($B5:$D5)*100 -> 80.434561 | AZ5: =+_xlfn.RANK.EQ(BB5,$BB$3:$BB$17,) -> 11 | BA5: III | BB5: =E5 -> 19.565439 | BD5: 3 | BE5: =+VLOOKUP(BD5,$AZ$3:$BB$17,2,FALSE) -> V | BF5: =+VLOOKUP(BD5,$AZ$3:$BB$17,3,FALSE) -> 64.139725
A6: IV | B6: 1831 | C6: 117 | D6: 2945 | E6: =+($B6+$C6)/SUM($B6:$D6)*100 -> 39.811976 | F6: =$D6/SUM($B6:$D6)*100 -> 60.188024 | AZ6: =+_xlfn.RANK.EQ(BB6,$BB$3:$BB$17,) -> 5 | BA6: IV | BB6: =E6 -> 39.811976 | BD6: 4 | BE6: =+VLOOKUP(BD6,$AZ$3:$BB$17,2,FALSE) -> VII | BF6: =+VLOOKUP(BD6,$AZ$3:$BB$17,3,FALSE) -> 52.955289
A7: V | B7: 1655 | C7: 71 | D7: 965 | E7: =+($B7+$C7)/SUM($B7:$D7)*100 -> 64.139725 | F7: =$D7/SUM($B7:$D7)*100 -> 35.860275 | AZ7: =+_xlfn.RANK.EQ(BB7,$BB$3:$BB$17,) -> 3 | BA7: V | BB7: =E7 -> 64.139725 | BD7: 5 | BE7: =+VLOOKUP(BD7,$AZ$3:$BB$17,2,FALSE) -> IV | BF7: =+VLOOKUP(BD7,$AZ$3:$BB$17,3,FALSE) -> 39.811976
A8: VI | B8: 2976 | C8: 216 | D8: 8196 | E8: =+($B8+$C8)/SUM($B8:$D8)*100 -> 28.029505 | F8: =$D8/SUM($B8:$D8)*100 -> 71.970495 | AZ8: =+_xlfn.RANK.EQ(BB8,$BB$3:$BB$17,) -> 7 | BA8: VI | BB8: =E8 -> 28.029505 | BD8: 6 | BE8: =+VLOOKUP(BD8,$AZ$3:$BB$17,2,FALSE) -> XI | BF8: =+VLOOKUP(BD8,$AZ$3:$BB$17,3,FALSE) -> 28.801231
A9: VII | B9: 2284 | C9: 144 | D9: 2157 | E9: =+($B9+$C9)/SUM($B9:$D9)*100 -> 52.955289 | F9: =$D9/SUM($B9:$D9)*100 -> 47.044711 | AZ9: =+_xlfn.RANK.EQ(BB9,$BB$3:$BB$17,) -> 4 | BA9: VII | BB9: =E9 -> 52.955289 | BD9: 7 | BE9: =+VLOOKUP(BD9,$AZ$3:$BB$17,2,FALSE) -> VI | BF9: =+VLOOKUP(BD9,$AZ$3:$BB$17,3,FALSE) -> 28.029505
A10: VIII | B10: 1058 | C10: 104 | D10: 3553 | E10: =+($B10+$C10)/SUM($B10:$D10)*100 -> 24.644751 | F10: =$D10/SUM($B10:$D10)*100 -> 75.355249 | AZ10: =+_xlfn.RANK.EQ(BB10,$BB$3:$BB$17,) -> 8 | BA10: VIII | BB10: =E10 -> 24.644751 | BD10: 8 | BE10: =+VLOOKUP(BD10,$AZ$3:$BB$17,2,FALSE) -> VIII | BF10: =+VLOOKUP(BD10,$AZ$3:$BB$17,3,FALSE) -> 24.644751
A11: IX | B11: 2989 | C11: 318 | D11: 15023 | E11: =+($B11+$C11)/SUM($B11:$D11)*100 -> 18.041462 | F11: =$D11/SUM($B11:$D11)*100 -> 81.958538 | AZ11: =+_xlfn.RANK.EQ(BB11,$BB$3:$BB$17,) -> 13 | BA11: IX | BB11: =E11 -> 18.041462 | BD11: 9 | BE11: =+VLOOKUP(BD11,$AZ$3:$BB$17,2,FALSE) -> XII | BF11: =+VLOOKUP(BD11,$AZ$3:$BB$17,3,FALSE) -> 23.511701
A12: X | B12: 2526 | C12: 348 | D12: 12201 | E12: =+($B12+$C12)/SUM($B12:$D12)*100 -> 19.064677 | F12: =$D12/SUM($B12:$D12)*100 -> 80.935323 | AZ12: =+_xlfn.RANK.EQ(BB12,$BB$3:$BB$17,) -> 12 | BA12: X | BB12: =E12 -> 19.064677 | BD12: 10 | BE12: =+VLOOKUP(BD12,$AZ$3:$BB$17,2,FALSE) -> XIII | BF12: =+VLOOKUP(BD12,$AZ$3:$BB$17,3,FALSE) -> 19.75198
A13: XI | B13: 1664 | C13: 395 | D13: 5090 | E13: =+($B13+$C13)/SUM($B13:$D13)*100 -> 28.801231 | F13: =$D13/SUM($B13:$D13)*100 -> 71.198769 | AZ13: =+_xlfn.RANK.EQ(BB13,$BB$3:$BB$17,) -> 6 | BA13: XI | BB13: =E13 -> 28.801231 | BD13: 11 | BE13: =+VLOOKUP(BD13,$AZ$3:$BB$17,2,FALSE) -> III | BF13: =+VLOOKUP(BD13,$AZ$3:$BB$17,3,FALSE) -> 19.565439
A14: XII | B14: 1524 | C14: 194 | D14: 5589 | E14: =+($B14+$C14)/SUM($B14:$D14)*100 -> 23.511701 | F14: =$D14/SUM($B14:$D14)*100 -> 76.488299 | AZ14: =+_xlfn.RANK.EQ(BB14,$BB$3:$BB$17,) -> 9 | BA14: XII | BB14: =E14 -> 23.511701 | BD14: 12 | BE14: =+VLOOKUP(BD14,$AZ$3:$BB$17,2,FALSE) -> X | BF14: =+VLOOKUP(BD14,$AZ$3:$BB$17,3,FALSE) -> 19.064677
... A17: XV | B17: 2404 | C17: 385 | D17: 15941 | E17: =+($B17+$C17)/SUM($B17:$D17)*100 -> 14.89055 | F17: =$D17/SUM($B17:$D17)*100 -> 85.10945 | AZ17: =+_xlfn.RANK.EQ(BB17,$BB$3:$BB$17,) -> 14 | BA17: XV | BB17: =E17 -> 14.89055 | BD17: 15 | BE17: =+VLOOKUP(BD17,$AZ$3:$BB$17,2,FALSE) -> XIV | BF17: =+VLOOKUP(BD17,$AZ$3:$BB$17,3,FALSE) -> 13.882441
A18: Fonte: Elaborazioni Ufficio di Statistica di Roma Capitale su dati "L'uso e il consumo di suolo di Roma Capitale - Rapporto 2021"
A19: (%) Percentuale di suolo sulla superficie amministrativa
A21: Graf.14.26 - Suolo consumato per municipio di Roma (%). Anno 2021
A38: Fonte: Elaborazioni Ufficio di Statistica di Roma Capitale su dati "L'uso e il consumo di suolo di Roma Capitale - Rapporto 2021"
A39: (%) Percentuale di suolo sulla superficie amministrativa
A41: Fig.14.3 - Suolo consumato per municipio di Roma (%). Anno 2021
A67: Fonte: "L'uso e il consumo di suolo di Roma Capitale - Rapporto 2021"
A69: Tab.14.28 - Consumo di suolo pro-capite per municipio di Roma (m2/ab.). Anno 2021
A70: Municipio | B70: Suolo consumato pro-capite | C70: Suolo non consumato pro-capite
A71: I | B71: 90.3 | C71: 30.73
A72: II | B72: 81.75 | C72: 37.44
A73: III | B73: 94.17 | C73: 387.09
A74: IV | B74: 113.46 | C74: 171.49
A75: V | B75: 72.4 | C75: 40.47
A76: VI | B76: 132.2 | C76: 339.52
A77: VII | B77: 77.96 | C77: 69.26
A78: VIII | B78: 90.09 | C78: 275.64
A79: IX | B79: 181.1 | C79: 822.55
A80: X | B80: 125.62 | C80: 533.42
A81: XI | B81: 134.62 | C81: 332.81
A82: XII | B82: 122.88 | C82: 399.67
... A85: XV | B85: 174.89 | C85: 999.66
A86: Fonte: Elaborazioni Ufficio di Statistica di Roma Capitale su dati "L'uso e il consumo di suolo di Roma Capitale - Rapporto 2021"
A88: Tab.14.29 - Suolo consumato entro 150 m. dai corpi idrici permanenti per municipio di Roma (ha, %). Anno 2021
A89: Municipio | B89: Suolo consumato entro 150 m dai corpi idrici permanenti (ha) | C89: Suolo consumato entro 150 m dai corpi idrici permanenti (%)
A90: I | B90: 206.21 | C90: 71.3
A91: II | B91: 83.8 | C91: 46.23
A92: III | B92: 105.56 | C92: 15.1
A93: IV | B93: 18.72 | C93: 38.88
A94: V | B94: - | C94: -
A95: VI | B95: 8.89 | C95: 18.91
A96: VII | B96: - | C96: -
A97: VIII | B97: 44.34 | C97: 45.47
A98: IX | B98: 65.47 | C98: 19.07
A99: X | B99: 68.86 | C99: 13.86
A100: XI | B100: 107.68 | C100: 21.32
A101: XII | B101: 22.46 | C101: 38.68
A102: XIII | B102: - | C102: -
A103: XIV | B103: 0.72 | C103: 7.01
A104: XV | B104: 103.55 | C104: 10.56
A105: Totale | B105: 836.25 | C105: 22.26
A106: Fonte: Elaborazioni Ufficio di Statistica di Roma Capitale su dati "L'uso e il consumo di suolo di Roma Capitale - Rapporto 2021"
A107: (%) Percentuale di suolo consumato entro 150 metri di distanza dai corpi idrici permanenti sulla superficie della fascia
A109: Tab.14.30 - Suolo consumato all’interno di aree protette per municipio di Roma (ha, %). Anno 2021
A110: Municipio | B110: Suolo consumato all’interno di aree protette (ha) | C110: Suolo consumato all’interno di aree protette (%)
A111: I | B111: 20.56 | C111: 18.1
A112: II | B112: 6.93 | C112: 27.04
A113: III | B113: 169.59 | C113: 3.54
A114: IV | B114: 93.27 | C114: 16.24
A115: V | B115: 0.11 | C115: 0.06
A116: VI | B116: - | C116: -
A117: VII | B117: 75.49 | C117: 15.75
A118: VIII | B118: 209.97 | C118: 8.19
A119: IX | B119: 318.59 | C119: 5.06
A120: X | B120: 439.81 | C120: 4.45
A121: XI | B121: 177.07 | C121: 7.79
A122: XII | B122: 125.5 | C122: 4.14
A123: XIII | B123: 34.49 | C123: 6.94
A124: XIV | B124: 54.38 | C124: 5.7
A125: XV | B125: 677.83 | C125: 7.34
A126: Totale | B126: 2403.58 | C126: 5.9
A127: Fonte: Elaborazioni Ufficio di Statistica di Roma Capitale su dati "L'uso e il consumo di suolo di Roma Capitale - Rapporto 2021"
A128: (%) Percentuale di suolo consumato rispetto all’estensione delle aree protette
A130: Tab.14.31 - Nuovo consumo di suolo per municipio di Roma (ha, %). Anno 2021 vs 2020
A131: Municipio | B131: Consumo di suolo 20-21 (ha) | C131: Consumo di suolo 20-21 (%)
A132: I | B132: 0.215 | C132: 0.001
A133: II | B133: 0.65 | C133: 0.002
A134: III | B134: 2.291 | C134: 0.007
A135: IV | B135: 5.696 | C135: 0.018
A136: V | B136: 1.091 | C136: 0.004
A137: VI | B137: 5.997 | C137: 0.019
A138: VII | B138: 4.409 | C138: 0.014
A139: VIII | B139: 2.451 | C139: 0.008
A140: IX | B140: 26.646 | C140: 0.086
A141: X | B141: 4.551 | C141: 0.015
A142: XI | B142: 14.074 | C142: 0.045
A143: XII | B143: 11.952 | C143: 0.039
... A147: Totale | B147: 105.377 | C147: 0.336
A148: Fonte: Elaborazioni Ufficio di Statistica di Roma Capitale su dati "L'uso e il consumo di suolo di Roma Capitale - Rapporto 2021"
A149: (%) Percentuale di consumo di suolo sul totale

Sheet Grandi_comuni
A1: Tab.14.32 - Suolo consumato e non (ha, %). Grandi Comuni. Anno 2024 | AW1: Grandi comuni | AX1: Suolo consumato (ha) | AY1: Suolo non consumato (ha) | AZ1: Suolo consumato (%) | BA1: Suolo non consumato (%)
A2: Grandi comuni | B2: Suolo consumato (ha) | C2: Suolo non consumato (ha) | D2: Suolo consumato (%) | E2: Suolo non consumato (%) | AW2: Venezia | AX2: 7163.95 | AY2: 34514.31 | AZ2: 17.188697 | BA2: 82.811303
A3: Torino | B3: 8480.54 | C3: =B3/D3*E3 -> 4524.22 | D3: 65.211046 | E3: =100-D3 -> 34.788954 | AW3: Roma | AX3: 30396.82 | AY3: 97881.93 | AZ3: 23.695912 | BA3: 76.304088
A4: Genova | B4: 5804.77 | C4: =B4/D4*E4 -> 18243.47 | D4: 24.138024 | E4: =100-D4 -> 75.861976 | AW4: Genova | AX4: 5804.77 | AY4: 18243.47 | AZ4: 24.138024 | BA4: 75.861976
A5: Milano | B5: 10667.5 | C5: =B5/D5*E5 -> 7498.81 | D5: 58.721336 | E5: =100-D5 -> 41.278664 | AW5: Verona | AX5: 5669.78 | AY5: 14167.2 | AZ5: 28.581871 | BA5: 71.418129
A6: Verona | B6: 5669.78 | C6: =B6/D6*E6 -> 14167.2 | D6: 28.581871 | E6: =100-D6 -> 71.418129 | AW6: Catania | AX6: 5322.01 | AY6: 12824.19 | AZ6: 29.32851 | BA6: 70.67149
A7: Venezia | B7: 7163.95 | C7: =B7/D7*E7 -> 34514.31 | D7: 17.188697 | E7: =100-D7 -> 82.811303 | AW7: Bologna | AX7: 4834.25 | AY7: 9209.22 | AZ7: 34.423472 | BA7: 65.576528
A8: Bologna | B8: 4834.25 | C8: =B8/D8*E8 -> 9209.22 | D8: 34.423472 | E8: =100-D8 -> 65.576528 | AW8: Palermo | AX8: 6395 | AY8: 9584.8 | AZ8: 40.019274 | BA8: 59.980726
A9: Firenze | B9: 4290.3 | C9: =B9/D9*E9 -> 5910.59 | D9: 42.058095 | E9: =100-D9 -> 57.941905 | AW9: Firenze | AX9: 4290.3 | AY9: 5910.59 | AZ9: 42.058095 | BA9: 57.941905
A10: Roma | B10: 30396.82 | C10: =B10/D10*E10 -> 97881.93 | D10: 23.695912 | E10: =100-D10 -> 76.304088 | AW10: Bari | AX10: 5061.98 | AY10: 6590.39 | AZ10: 43.441635 | BA10: 56.558365
A11: Napoli | B11: 7546.5 | C11: =B11/D11*E11 -> 4304.58 | D11: 63.677741 | E11: =100-D11 -> 36.322259 | AW11: Milano | AX11: 10667.5 | AY11: 7498.81 | AZ11: 58.721336 | BA11: 41.278664
A12: Bari | B12: 5061.98 | C12: =B12/D12*E12 -> 6590.39 | D12: 43.441635 | E12: =100-D12 -> 56.558365 | AW12: Napoli | AX12: 7546.5 | AY12: 4304.58 | AZ12: 63.677741 | BA12: 36.322259
A13: Palermo | B13: 6395 | C13: =B13/D13*E13 -> 9584.8 | D13: 40.019274 | E13: =100-D13 -> 59.980726 | AW13: Torino | AX13: 8480.54 | AY13: 4524.22 | AZ13: 65.211046 | BA13: 34.788954
A14: Catania | B14: 5322.01 | C14: =B14/D14*E14 -> 12824.19 | D14: 29.32851 | E14: =100-D14 -> 70.67149
A15: Fonte: Elaborazioni Ufficio di Statistica di Roma Capitale su dati ISPRA
A16: (%) Percentuale di suolo sulla superficie amministrativa
A18: Graf.14.27 - Suolo consumato e non (%). Grandi Comuni. Anno 2024
A42: Fonte: Elaborazioni Ufficio di Statistica di Roma Capitale su dati ISPRA
A43: (%) Percentuale di suolo sulla superficie amministrativa
A45: Tab.14.33 - Indicatori di consumo di suolo. Grandi Comuni. Anno 2023 - 2024
A46: Comune | B46: Nuovo consumo di suolo 2023-2024 (ha) | C46: Nuovo consumo di suolo 2023-2024 (%) | D46: Densità del consumo di suolo 2023-2024 (m2/ha)
A47: Torino | B47: 6.8 | C47: 0.080183573 | D47: 5.2288547
A48: Genova | B48: 4.77 | C48: 0.082173798 | D48: 1.9835131
A49: Milano | B49: 13.11 | C49: 0.12289665 | D49: 7.2166554
A50: Verona | B50: 17.07 | C50: 0.30106988 | D50: 8.6051405
A51: Venezia | B51: 65.18 | C51: 0.90983326 | D51: 15.638849
A52: Bologna | B52: 29.23 | C52: 0.60464395 | D52: 20.813944
A53: Firenze | B53: 1.34 | C53: 0.031233247 | D53: 1.3136109
A54: Roma | B54: 56.69 | C54: 0.18649977 | D54: 4.4192822
A55: Napoli | B55: 13.62 | C55: 0.18048102 | D55: 11.492623
A56: Bari | B56: 21.13 | C56: 0.41742559 | D56: 18.13365
A57: Palermo | B57: 13.85 | C57: 0.21657545 | D57: 8.6671923
A58: Catania | B58: 31.09 | C58: 0.58417778 | D58: 17.133064
A59: Fonte: Elaborazioni Ufficio di Statistica di Roma Capitale su dati ISPRA
A61: Graf.14.28 - Nuovo consumo di suolo nei Grandi Comuni. Anno 2023 - 2024
A82: Fonte: Elaborazioni Ufficio di Statistica di Roma Capitale su dati ISPRA
A84: Tab.14.34 - Suolo consumato secondo il livello di pericolosità idraulica (%). Grandi Comuni. Anno 2024
A85: Grandi comuni | B85: % di suolo consumato in aree a pericolosità idraulica bassa (P1) (1) | C85: % di suolo consumato in aree a pericolosità idraulica media (P2) con tempi di ritorno fra 100 e 200 anni (alluvioni poco frequenti) (1) | D85: % di suolo consumato in aree a pericolosità idraulica alta (P3) con tempi di ritorno fra 20 e 50 anni (alluvioni frequenti) (1)
A86: Torino | B86: 50.001 | C86: 23.401 | D86: 4.348
A87: Genova | B87: 72.83 | C87: 68.374 | D87: 59.737
A88: Milano | B88: 56.379 | C88: 54.354 | D88: 54.812
A89: Verona | B89: 24.242 | C89: 19.346 | D89: 18.944
A90: Venezia | B90: 38.791 | C90: 45.089 | D90: 45.342
A91: Bologna | B91: 38.1 | C91: 36.735 | D91: 7.431
A92: Firenze | B92: 60.004 | C92: 55.601 | D92: 22.114
A93: Roma | B93: 25.825 | C93: 17.941 | D93: 14.222
A94: Napoli | B94: 45.632 | C94: 45.402 | D94: 42.965
A95: Bari | B95: 20.943 | C95: 20.429 | D95: 15.257
A96: Palermo | B96: 56.93 | C96: 56.93 | D96: 56.933
A97: Catania | B97: 13.65 | C97: 12.515 | D97: 13.621
A98: Fonte: Elaborazioni Ufficio di Statistica di Roma Capitale su dati ISPRA
A99: (1) redatte dalle Autorità di Bacino, Regioni e Province Autonome ai sensi del D.lgs. 49/2010 (recepimento della Direttiva Alluvioni 2007/60/CE)
A100: Nota: poiché un'area può essere inondata secondo più di uno dei differenti scenari di probabilità (ad esempio P2 e P3) la somma per riga delle percentuali non dà 100, inoltre le percentuali in tabella riportano la percentuale di quanto suolo è attualmente coperto artificialmente (suolo consumato) rispetto alla superficie della corrispondente area di pericolosità e non la percentuale rispetto al totale del suolo consumato nel territorio comunale.
A102: Graf.14.29 - Suolo consumato in aree a pericolosità idraulica alta (P3 - alluvioni frequenti) (%). Grandi Comuni. Anno 2024
A121: Fonte: Elaborazioni Ufficio di Statistica di Roma Capitale su dati ISPRA
A123: Tab.14.35 - Suolo consumato entro 300 metri (%) e tra 300 e 1000 metri dalla costa (%). Grandi Comuni. Anno 2024
A124: Grandi comuni | B124: % suolo consumato entro 300 metri di distanza dalla costa | C124: % suolo consumato tra 300 metri e 1000 metri di distanza dalla costa
A125: Genova | B125: 83.191 | C125: 57.442
A126: Venezia | B126: 14.993 | C126: 10.915
A127: Roma | B127: 36.186 | C127: 21.587
A128: Napoli | B128: 75.655 | C128: 74.036
A129: Bari | B129: 68.066 | C129: 57.665
A130: Palermo | B130: 53.785 | C130: 48.41
A131: Catania | B131: 46.439 | C131: 45.892
A132: Cagliari | B132: 19.382 | C132: 20.365
A133: Fonte: Elaborazioni Ufficio di Statistica di Roma Capitale su dati ISPRA
A135: Tab.14.36 - Suolo consumato per livello di pendenza (entro/oltre il 10%) (%). Grandi Comuni. Anno 2024
A136: Grandi comuni | B136: % suolo consumato tra 0 e 10% di pendenza | C136: % suolo consumato oltre 10% di pendenza
A137: Torino | B137: 76.204 | C137: 18.424
A138: Genova | B138: 83.939 | C138: 16.27
A139: Milano | B139: 58.722 | C139: 0
A140: Verona | B140: 37.837 | C140: 8.616
A141: Venezia | B141: 41.146 | C141: 1.595
A142: Bologna | B142: 43.301 | C142: 6.987
A143: Firenze | B143: 57.161 | C143: 14.183
A144: Roma | B144: 27.217 | C144: 14.622
A145: Napoli | B145: 74.122 | C145: 44.57
A146: Bari | B146: 74.122 | C146: 44.57
A147: Palermo | B147: 62.568 | C147: 10.533
A148: Catania | B148: 29.109 | C148: 31.561
A149: Fonte: Elaborazioni Ufficio di Statistica di Roma Capitale su dati ISPRA
A151: Graf.14.30 - Suolo consumato entro/oltre il 10% di pendenza (%). Grandi Comuni. Anno 2024
A173: Fonte: Elaborazioni Ufficio di Statistica di Roma Capitale su dati ISPRA
